BEGIN:VCALENDAR
VERSION:2.0
PRODID:-//HV Borger - ECPv6.15.20//NONSGML v1.0//EN
CALSCALE:GREGORIAN
METHOD:PUBLISH
X-ORIGINAL-URL:https://hvborger.nl/site
X-WR-CALDESC:Evenementen voor HV Borger
REFRESH-INTERVAL;VALUE=DURATION:PT1H
X-Robots-Tag:noindex
X-PUBLISHED-TTL:PT1H
BEGIN:VTIMEZONE
TZID:Europe/Helsinki
BEGIN:DAYLIGHT
TZOFFSETFROM:+0200
TZOFFSETTO:+0300
TZNAME:EEST
DTSTART:20240331T010000
END:DAYLIGHT
BEGIN:STANDARD
TZOFFSETFROM:+0300
TZOFFSETTO:+0200
TZNAME:EET
DTSTART:20241027T010000
END:STANDARD
BEGIN:DAYLIGHT
TZOFFSETFROM:+0200
TZOFFSETTO:+0300
TZNAME:EEST
DTSTART:20250330T010000
END:DAYLIGHT
BEGIN:STANDARD
TZOFFSETFROM:+0300
TZOFFSETTO:+0200
TZNAME:EET
DTSTART:20251026T010000
END:STANDARD
BEGIN:DAYLIGHT
TZOFFSETFROM:+0200
TZOFFSETTO:+0300
TZNAME:EEST
DTSTART:20260329T010000
END:DAYLIGHT
BEGIN:STANDARD
TZOFFSETFROM:+0300
TZOFFSETTO:+0200
TZNAME:EET
DTSTART:20261025T010000
END:STANDARD
BEGIN:DAYLIGHT
TZOFFSETFROM:+0200
TZOFFSETTO:+0300
TZNAME:EEST
DTSTART:20270328T010000
END:DAYLIGHT
BEGIN:STANDARD
TZOFFSETFROM:+0300
TZOFFSETTO:+0200
TZNAME:EET
DTSTART:20271031T010000
END:STANDARD
END:VTIMEZONE
BEGIN:VEVENT
DTSTART;TZID=Europe/Helsinki:20260404T080000
DTEND;TZID=Europe/Helsinki:20260404T120000
DTSTAMP:20260426T052620
CREATED:20260111T073209Z
LAST-MODIFIED:20260307T071338Z
UID:2986-1775289600-1775304000@hvborger.nl
SUMMARY:Oud papier
DESCRIPTION:
URL:https://hvborger.nl/site/event/oud-papier-11/
LOCATION:Drenthe
CATEGORIES:Activiteiten
END:VEVENT
BEGIN:VEVENT
DTSTART;TZID=Europe/Helsinki:20260326T180000
DTEND;TZID=Europe/Helsinki:20260326T210000
DTSTAMP:20260426T052620
CREATED:20260313T065708Z
LAST-MODIFIED:20260313T065710Z
UID:3782-1774548000-1774558800@hvborger.nl
SUMMARY:Afhaalmoment Kippie 2026
DESCRIPTION:Deze dag kun je jouw bestelde Kippie Partyschotel afhalen in Sporthal de Koel in Borger. Je hebt hiervoor tijdens het bestellen een voorkeursmoment opgegeven.
URL:https://hvborger.nl/site/event/afhaalmoment-kippie-2026/
LOCATION:Sporthal de Koel\, Molenstraat 3\, Borger\, Drenthe\, 9531CH\, Netherlands
END:VEVENT
BEGIN:VEVENT
DTSTART;TZID=Europe/Helsinki:20260301T130000
DTEND;TZID=Europe/Helsinki:20260312T220000
DTSTAMP:20260426T052620
CREATED:20260111T074200Z
LAST-MODIFIED:20260313T065448Z
UID:3002-1772370000-1773352800@hvborger.nl
SUMMARY:Kippie Actie 🍗
DESCRIPTION:Bestel een kippie partyschotel en steun de club! Klik op de knop hieronder!
URL:https://hvborger.nl/site/event/kippie-actie-%f0%9f%8d%97/
LOCATION:Drenthe
CATEGORIES:Activiteiten
ATTACH;FMTTYPE=image/png:https://hvborger.nl/site/wp-content/uploads/2026/02/kippie.png
END:VEVENT
BEGIN:VEVENT
DTSTART;TZID=Europe/Helsinki:20260228T090000
DTEND;TZID=Europe/Helsinki:20260228T130000
DTSTAMP:20260426T052620
CREATED:20260111T073105Z
LAST-MODIFIED:20260307T071400Z
UID:2984-1772269200-1772283600@hvborger.nl
SUMMARY:Oud papier
DESCRIPTION:
URL:https://hvborger.nl/site/event/oud-papier-10/
LOCATION:Drenthe
CATEGORIES:Activiteiten
END:VEVENT
BEGIN:VEVENT
DTSTART;TZID=Europe/Helsinki:20260124T090000
DTEND;TZID=Europe/Helsinki:20260124T130000
DTSTAMP:20260426T052620
CREATED:20260111T072912Z
LAST-MODIFIED:20260307T071410Z
UID:2981-1769245200-1769259600@hvborger.nl
SUMMARY:Oud papier
DESCRIPTION:
URL:https://hvborger.nl/site/event/oud-papier-9/
LOCATION:Drenthe
CATEGORIES:Activiteiten
END:VEVENT
BEGIN:VEVENT
DTSTART;TZID=Europe/Helsinki:20251220T090000
DTEND;TZID=Europe/Helsinki:20251220T180000
DTSTAMP:20260426T052620
CREATED:20250523T124423Z
LAST-MODIFIED:20260307T071417Z
UID:1457-1766221200-1766253600@hvborger.nl
SUMMARY:Oud papier
DESCRIPTION:Het oud-papier wordt weer opgehaald door onze fanatieke vrijwilligers 💪
URL:https://hvborger.nl/site/event/oud-papier-8/
LOCATION:Drenthe
CATEGORIES:Activiteiten
END:VEVENT
BEGIN:VEVENT
DTSTART;TZID=Europe/Helsinki:20251213T090000
DTEND;TZID=Europe/Helsinki:20251213T220000
DTSTAMP:20260426T052620
CREATED:20250523T124232Z
LAST-MODIFIED:20260307T071427Z
UID:1453-1765616400-1765663200@hvborger.nl
SUMMARY:Kerstmarkt 🎄
DESCRIPTION:Kom gezellig langs op de jaarlijkse kerstmarkt in Borger! Ook onze vereniging zal weer aanwezig zijn. Ontmoet spelers\, vraag een handtekening en kop een paar loten. Altijd prijs
URL:https://hvborger.nl/site/event/kerstmarkt-%f0%9f%8e%84/
LOCATION:Drenthe
CATEGORIES:Activiteiten
END:VEVENT
BEGIN:VEVENT
DTSTART;TZID=Europe/Helsinki:20251127T160000
DTEND;TZID=Europe/Helsinki:20251127T180000
DTSTAMP:20260426T052620
CREATED:20250523T124145Z
LAST-MODIFIED:20260307T071438Z
UID:1451-1764259200-1764266400@hvborger.nl
SUMMARY:Pieten handbal
DESCRIPTION:
URL:https://hvborger.nl/site/event/pieten-handbal/
LOCATION:Drenthe
CATEGORIES:Activiteiten
END:VEVENT
BEGIN:VEVENT
DTSTART;TZID=Europe/Helsinki:20251115T090000
DTEND;TZID=Europe/Helsinki:20251115T180000
DTSTAMP:20260426T052620
CREATED:20250523T124104Z
LAST-MODIFIED:20260307T071447Z
UID:1449-1763197200-1763229600@hvborger.nl
SUMMARY:Oud papier
DESCRIPTION:Het oud-papier wordt weer opgehaald door onze fanatieke vrijwilligers 💪
URL:https://hvborger.nl/site/event/oud-papier-7/
LOCATION:Drenthe
CATEGORIES:Activiteiten
END:VEVENT
BEGIN:VEVENT
DTSTART;TZID=Europe/Helsinki:20251011T080000
DTEND;TZID=Europe/Helsinki:20251011T170000
DTSTAMP:20260426T052620
CREATED:20250523T124031Z
LAST-MODIFIED:20260307T071503Z
UID:1447-1760169600-1760202000@hvborger.nl
SUMMARY:Oud papier
DESCRIPTION:Het oud-papier wordt weer opgehaald door onze fanatieke vrijwilligers 💪
URL:https://hvborger.nl/site/event/oud-papier-6/
LOCATION:Drenthe
CATEGORIES:Activiteiten
END:VEVENT
BEGIN:VEVENT
DTSTART;TZID=Europe/Helsinki:20250921T080000
DTEND;TZID=Europe/Helsinki:20250921T170000
DTSTAMP:20260426T052620
CREATED:20250523T123913Z
LAST-MODIFIED:20250821T065928Z
UID:1445-1758441600-1758474000@hvborger.nl
SUMMARY:Verenigings dag
DESCRIPTION:Kom als lid van de club naar onze verenigingsdag. Een dag vol activiteiten en gezelligheid.  \n\n\n\nMeer informatie volgt.
URL:https://hvborger.nl/site/event/vereniging-dag/
LOCATION:Sporthal de Koel\, Molenstraat 3\, Borger\, Drenthe\, 9531CH\, Netherlands
ORGANIZER;CN="HV Borger":MAILTO:website@hvborger.nl
END:VEVENT
BEGIN:VEVENT
DTSTART;TZID=Europe/Helsinki:20250920T080000
DTEND;TZID=Europe/Helsinki:20250920T170000
DTSTAMP:20260426T052620
CREATED:20250523T123747Z
LAST-MODIFIED:20250523T123748Z
UID:1443-1758355200-1758387600@hvborger.nl
SUMMARY:Start grote clubactie
DESCRIPTION:Spaar Mee Voor HV Borger! — Zijn er bij jouw vereniging nieuwe materialen nodig of geld voor een jubileum? Met de Grote Clubactie kan iedere vereniging extra inkomsten realiseren. Spek de Clubkas.
URL:https://hvborger.nl/site/event/start-grote-clubactie/
LOCATION:Drenthe
END:VEVENT
BEGIN:VEVENT
DTSTART;TZID=Europe/Helsinki:20250906T080000
DTEND;TZID=Europe/Helsinki:20250930T170000
DTSTAMP:20260426T052620
CREATED:20250523T124722Z
LAST-MODIFIED:20250523T124724Z
UID:1459-1757145600-1759251600@hvborger.nl
SUMMARY:Rabo clubsupport
DESCRIPTION:
URL:https://hvborger.nl/site/event/rabo-clubsupport/
LOCATION:Drenthe
END:VEVENT
BEGIN:VEVENT
DTSTART;TZID=Europe/Helsinki:20250906T080000
DTEND;TZID=Europe/Helsinki:20250906T170000
DTSTAMP:20260426T052620
CREATED:20250523T123550Z
LAST-MODIFIED:20250523T123551Z
UID:1441-1757145600-1757178000@hvborger.nl
SUMMARY:Oud papier
DESCRIPTION:Vandaag wordt het oud papier weer opgehaald door onze fanatieke vrijwilligers 💪
URL:https://hvborger.nl/site/event/oud-papier-5/
LOCATION:Drenthe
END:VEVENT
BEGIN:VEVENT
DTSTART;TZID=Europe/Helsinki:20250814T080000
DTEND;TZID=Europe/Helsinki:20250817T170000
DTSTAMP:20260426T052620
CREATED:20250523T123435Z
LAST-MODIFIED:20250523T123436Z
UID:1437-1755158400-1755450000@hvborger.nl
SUMMARY:Boerenrock 🤘
DESCRIPTION:Je vindt onze vrijwilligers tijdens het Boerenrock evenement achter de bar.
URL:https://hvborger.nl/site/event/boerenrock-%f0%9f%a4%98/
LOCATION:Drenthe
END:VEVENT
BEGIN:VEVENT
DTSTART;TZID=Europe/Helsinki:20250802T080000
DTEND;TZID=Europe/Helsinki:20250802T170000
DTSTAMP:20260426T052620
CREATED:20250523T122928Z
LAST-MODIFIED:20250523T122929Z
UID:1435-1754121600-1754154000@hvborger.nl
SUMMARY:Oud papier
DESCRIPTION:Het oud-papier wordt weer opgehaald door onze fanatieke vrijwilligers 💪
URL:https://hvborger.nl/site/event/oud-papier-4/
LOCATION:Drenthe
END:VEVENT
BEGIN:VEVENT
DTSTART;TZID=Europe/Helsinki:20250628T080000
DTEND;TZID=Europe/Helsinki:20250628T140000
DTSTAMP:20260426T052620
CREATED:20250523T122838Z
LAST-MODIFIED:20250523T122840Z
UID:1433-1751097600-1751119200@hvborger.nl
SUMMARY:Oud papier
DESCRIPTION:Het oud-papier wordt weer opgehaald door onze fanatieke vrijwilligers 💪
URL:https://hvborger.nl/site/event/oud-papier-3/
LOCATION:Drenthe
END:VEVENT
BEGIN:VEVENT
DTSTART;TZID=Europe/Helsinki:20250613T080000
DTEND;TZID=Europe/Helsinki:20250615T170000
DTSTAMP:20260426T052620
CREATED:20250326T151639Z
LAST-MODIFIED:20250326T151641Z
UID:741-1749801600-1750006800@hvborger.nl
SUMMARY:Jeugdkamp
DESCRIPTION:F’s tot en met C’s
URL:https://hvborger.nl/site/event/jeugdkamp/
LOCATION:Drenthe
END:VEVENT
BEGIN:VEVENT
DTSTART;TZID=Europe/Helsinki:20250419T080000
DTEND;TZID=Europe/Helsinki:20250419T170000
DTSTAMP:20260426T052620
CREATED:20250326T151411Z
LAST-MODIFIED:20250326T151413Z
UID:737-1745049600-1745082000@hvborger.nl
SUMMARY:Oud papier
DESCRIPTION:Vandaag wordt het oud papier weer opgehaald.
URL:https://hvborger.nl/site/event/oud-papier/
LOCATION:Drenthe
END:VEVENT
BEGIN:VEVENT
DTSTART;TZID=Europe/Helsinki:20250417T080000
DTEND;TZID=Europe/Helsinki:20250417T170000
DTSTAMP:20260426T052620
CREATED:20250326T142243Z
LAST-MODIFIED:20250326T151119Z
UID:723-1744876800-1744909200@hvborger.nl
SUMMARY:Afhalen kippie-schalen
DESCRIPTION:Vandaag is het mogelijk om jou bestelde kippie schalen at te halen.
URL:https://hvborger.nl/site/event/test-evenement/
LOCATION:Sporthal de Koel\, Molenstraat 3\, Borger\, Drenthe\, 9531CH\, Netherlands
END:VEVENT
BEGIN:VEVENT
DTSTART;TZID=Europe/Helsinki:20250413T080000
DTEND;TZID=Europe/Helsinki:20250413T170000
DTSTAMP:20260426T052620
CREATED:20250326T151304Z
LAST-MODIFIED:20250326T151307Z
UID:735-1744531200-1744563600@hvborger.nl
SUMMARY:Afsluiting B's & Senioren
DESCRIPTION:De afsluiting van het seizoen voor de B’s en senioren.
URL:https://hvborger.nl/site/event/afsluiting-bs-senioren/
LOCATION:Sporthal de Koel\, Molenstraat 3\, Borger\, Drenthe\, 9531CH\, Netherlands
END:VEVENT
BEGIN:VEVENT
DTSTART;TZID=Europe/Helsinki:20250326T090000
DTEND;TZID=Europe/Helsinki:20250524T170000
DTSTAMP:20260426T052620
CREATED:20250326T151451Z
LAST-MODIFIED:20250326T151453Z
UID:739-1742979600-1748106000@hvborger.nl
SUMMARY:Oud papier
DESCRIPTION:Vandaag wordt het oud papier weer opgehaald.
URL:https://hvborger.nl/site/event/oud-papier-2/
LOCATION:Drenthe
END:VEVENT
END:VCALENDAR